BEGIN:VCALENDAR
VERSION:2.0
PRODID:-//Asil Toksal - ECPv5.10.0//NONSGML v1.0//EN
CALSCALE:GREGORIAN
METHOD:PUBLISH
X-WR-CALNAME:Asil Toksal
X-ORIGINAL-URL:https://asiltoksal.com
X-WR-CALDESC:Events for Asil Toksal
BEGIN:VTIMEZONE
TZID:America/Los_Angeles
BEGIN:DAYLIGHT
TZOFFSETFROM:-0800
TZOFFSETTO:-0700
TZNAME:PDT
DTSTART:20210314T100000
END:DAYLIGHT
BEGIN:STANDARD
TZOFFSETFROM:-0700
TZOFFSETTO:-0800
TZNAME:PST
DTSTART:20211107T090000
END:STANDARD
END:VTIMEZONE
BEGIN:VEVENT
DTSTART;TZID=America/Los_Angeles:20210124T100000
DTEND;TZID=America/Los_Angeles:20210124T113000
DTSTAMP:20260421T043400
CREATED:20210120T094655Z
LAST-MODIFIED:20210120T095008Z
UID:20304-1611482400-1611487800@asiltoksal.com
SUMMARY:Online Community Launch on Mighty Networks
DESCRIPTION:RESERVE the date for Ascension One’s Online Community LAUNCH PARTY on Jan 24! \nWe are very excited to be launching our new Ascension One Online Community on Mighty Networks\, to support both your inner spiritual evolution and growth in the external\, physical world. \nIn addition to the course programs\, there are new sections for member content and engagement\, which are open to people who may not have taken a course yet. \nThese new interactive “Spaces” include themes around: Life Shifts & Missions\, Spiritual Experiences\, Creative Expressions\, Member Collaborations & more! \nReserve your calendar now for our Online Community LAUNCH PARTY on Sunday\, January 24 from 10AM – 11:30AM Pacific time. \nYou’ll meet members from our fascinating\, forward-thinking tribe of social and spiritual wayshowers from around the globe\, and enjoy other surprises. We cordially invite you to join our Online Launch Party\, either LIVE or via recording. \nCLICK HERE TO JOIN US ON MIGHTY NETWORKS
URL:https://asiltoksal.com/event/online-community-launch-on-mighty-networks/
ATTACH;FMTTYPE=image/jpeg:/wp-content/uploads/2021/01/Community_Artwork_1080.jpg
END:VEVENT
END:VCALENDAR